BEGIN:VCALENDAR
VERSION:2.0
PRODID:-//IAQG - ECPv6.5.2//NONSGML v1.0//EN
CALSCALE:GREGORIAN
METHOD:PUBLISH
X-WR-CALNAME:IAQG
X-ORIGINAL-URL:https://ma.iaqg.org
X-WR-CALDESC:Events for IAQG
REFRESH-INTERVAL;VALUE=DURATION:PT1H
X-Robots-Tag:noindex
X-PUBLISHED-TTL:PT1H
BEGIN:VTIMEZONE
TZID:America/New_York
BEGIN:DAYLIGHT
TZOFFSETFROM:-0500
TZOFFSETTO:-0400
TZNAME:EDT
DTSTART:20220313T070000
END:DAYLIGHT
BEGIN:STANDARD
TZOFFSETFROM:-0400
TZOFFSETTO:-0500
TZNAME:EST
DTSTART:20221106T060000
END:STANDARD
TZID:Europe/Paris
BEGIN:DAYLIGHT
TZOFFSETFROM:+0100
TZOFFSETTO:+0200
TZNAME:CEST
DTSTART:20210328T010000
END:DAYLIGHT
BEGIN:STANDARD
TZOFFSETFROM:+0200
TZOFFSETTO:+0100
TZNAME:CET
DTSTART:20211031T010000
END:STANDARD
END:VTIMEZONE
BEGIN:VEVENT
DTSTART;TZID=America/New_York:20220223T020000
DTEND;TZID=America/New_York:20220223T033000
DTSTAMP:20260423T204728
CREATED:20220203T132541Z
LAST-MODIFIED:20220203T132541Z
UID:3156-1645581600-1645587000@ma.iaqg.org
SUMMARY:OCAP and PBSRP Webinar - Changes in AS9104-1
DESCRIPTION:Maintaining a high-performing AQMS should come with benefits and rewards; join us to review key changes in 9104-1 and learn about the new OCAP and PBSRP\, what these could mean for your organization\, and how they could potentially adjust audit duration to reflect your organization’s performance. \nDuring this webinar learn: \n\nHow OCAP is used to calculate certification body audit duration based on risk\nHow a high performing AQMS can be rewarded through PBSRP\nReview key changes to 9104-1 and goals\n\nFeaturing Darrell Taylor (Raytheon Technologies -retired)\, Sector Document Representative for 9104-1\, and Tim Lee (Boeing)\, Industry Document Representative for 9104-1 \nA Q&A session will follow the presentation.
URL:https://ma.iaqg.org/event/ocap-and-pbsrp-webinar-changes-in-as9104-1/
LOCATION:Virtual Event
CATEGORIES:AAQG,APAQG,EAQG,IAQG
END:VEVENT
BEGIN:VEVENT
DTSTART;TZID=Europe/Paris:20211116T140000
DTEND;TZID=Europe/Paris:20211116T150000
DTSTAMP:20260423T204728
CREATED:20211029T160740Z
LAST-MODIFIED:20211029T160740Z
UID:2975-1637071200-1637074800@ma.iaqg.org
SUMMARY:Improving Organizational Performance with the new AIMM - Introduction Webinar
DESCRIPTION:The Aerospace Improvement Maturity Model (AIMM) is provided by the IAQG to help organizations move beyond compliance to the 9100 standard and improve the maturity of their Quality Management System (QMS). Using AIMM\, an organization can evaluate its current level of maturity and set clear targets for improvement. This webinar is through a partnership with Plexus International. \nDuring this webinar:\n1) Gain the tools to close the gap between QMS certification and organizational performance\n2) Help expose risks in your supply chain through the deployment of the AIMM tool\n3) Learn what AIMM is and how your organization can implement \nRegister Now for this free webinar. \n  \n  \n 
URL:https://ma.iaqg.org/event/improving-organizational-performance-with-the-new-aimm-introduction-webinar/
LOCATION:Virtual Event
CATEGORIES:IAQG
END:VEVENT
END:VCALENDAR