BEGIN:VCALENDAR
VERSION:2.0
PRODID:-//IAQG - ECPv6.5.2//NONSGML v1.0//EN
CALSCALE:GREGORIAN
METHOD:PUBLISH
X-WR-CALNAME:IAQG
X-ORIGINAL-URL:https://ma.iaqg.org
X-WR-CALDESC:Events for IAQG
REFRESH-INTERVAL;VALUE=DURATION:PT1H
X-Robots-Tag:noindex
X-PUBLISHED-TTL:PT1H
BEGIN:VTIMEZONE
TZID:America/New_York
BEGIN:DAYLIGHT
TZOFFSETFROM:-0500
TZOFFSETTO:-0400
TZNAME:EDT
DTSTART:20230312T070000
END:DAYLIGHT
BEGIN:STANDARD
TZOFFSETFROM:-0400
TZOFFSETTO:-0500
TZNAME:EST
DTSTART:20231105T060000
END:STANDARD
END:VTIMEZONE
BEGIN:VEVENT
DTSTART;VALUE=DATE:20230913
DTEND;VALUE=DATE:20230916
DTSTAMP:20260423T204017
CREATED:20230317T141208Z
LAST-MODIFIED:20230317T141252Z
UID:3530-1694563200-1694822399@ma.iaqg.org
SUMMARY:APAQG 2023 Fall Meeting in South Korea
DESCRIPTION:APAQG Council Meetings allow all APAQG Members to be briefed on APAQG/IAQG activities and initiatives. During these events\, Members can express their opinions on different topics and share information. APAQG Council meetings are closed meetings for APAQG Members only.
URL:https://ma.iaqg.org/event/apaqg-2023-fall-meeting-in-south-korea/
CATEGORIES:APAQG,IAQG
END:VEVENT
END:VCALENDAR