BEGIN:VCALENDAR
VERSION:2.0
PRODID:-//IAQG - ECPv6.5.2//NONSGML v1.0//EN
CALSCALE:GREGORIAN
METHOD:PUBLISH
X-ORIGINAL-URL:https://ma.iaqg.org
X-WR-CALDESC:Events for IAQG
REFRESH-INTERVAL;VALUE=DURATION:PT1H
X-Robots-Tag:noindex
X-PUBLISHED-TTL:PT1H
BEGIN:VTIMEZONE
TZID:America/New_York
BEGIN:DAYLIGHT
TZOFFSETFROM:-0500
TZOFFSETTO:-0400
TZNAME:EDT
DTSTART:20200308T070000
END:DAYLIGHT
BEGIN:STANDARD
TZOFFSETFROM:-0400
TZOFFSETTO:-0500
TZNAME:EST
DTSTART:20201101T060000
END:STANDARD
BEGIN:DAYLIGHT
TZOFFSETFROM:-0500
TZOFFSETTO:-0400
TZNAME:EDT
DTSTART:20210314T070000
END:DAYLIGHT
BEGIN:STANDARD
TZOFFSETFROM:-0400
TZOFFSETTO:-0500
TZNAME:EST
DTSTART:20211107T060000
END:STANDARD
BEGIN:DAYLIGHT
TZOFFSETFROM:-0500
TZOFFSETTO:-0400
TZNAME:EDT
DTSTART:20220313T070000
END:DAYLIGHT
BEGIN:STANDARD
TZOFFSETFROM:-0400
TZOFFSETTO:-0500
TZNAME:EST
DTSTART:20221106T060000
END:STANDARD
BEGIN:DAYLIGHT
TZOFFSETFROM:-0500
TZOFFSETTO:-0400
TZNAME:EDT
DTSTART:20230312T070000
END:DAYLIGHT
BEGIN:STANDARD
TZOFFSETFROM:-0400
TZOFFSETTO:-0500
TZNAME:EST
DTSTART:20231105T060000
END:STANDARD
BEGIN:DAYLIGHT
TZOFFSETFROM:-0500
TZOFFSETTO:-0400
TZNAME:EDT
DTSTART:20240310T070000
END:DAYLIGHT
BEGIN:STANDARD
TZOFFSETFROM:-0400
TZOFFSETTO:-0500
TZNAME:EST
DTSTART:20241103T060000
END:STANDARD
BEGIN:DAYLIGHT
TZOFFSETFROM:-0500
TZOFFSETTO:-0400
TZNAME:EDT
DTSTART:20250309T070000
END:DAYLIGHT
BEGIN:STANDARD
TZOFFSETFROM:-0400
TZOFFSETTO:-0500
TZNAME:EST
DTSTART:20251102T060000
END:STANDARD
TZID:Europe/Berlin
BEGIN:DAYLIGHT
TZOFFSETFROM:+0100
TZOFFSETTO:+0200
TZNAME:CEST
DTSTART:20190331T010000
END:DAYLIGHT
BEGIN:STANDARD
TZOFFSETFROM:+0200
TZOFFSETTO:+0100
TZNAME:CET
DTSTART:20191027T010000
END:STANDARD
BEGIN:DAYLIGHT
TZOFFSETFROM:+0100
TZOFFSETTO:+0200
TZNAME:CEST
DTSTART:20200329T010000
END:DAYLIGHT
BEGIN:STANDARD
TZOFFSETFROM:+0200
TZOFFSETTO:+0100
TZNAME:CET
DTSTART:20201025T010000
END:STANDARD
BEGIN:DAYLIGHT
TZOFFSETFROM:+0100
TZOFFSETTO:+0200
TZNAME:CEST
DTSTART:20210328T010000
END:DAYLIGHT
BEGIN:STANDARD
TZOFFSETFROM:+0200
TZOFFSETTO:+0100
TZNAME:CET
DTSTART:20211031T010000
END:STANDARD
TZID:Europe/Madrid
BEGIN:DAYLIGHT
TZOFFSETFROM:+0100
TZOFFSETTO:+0200
TZNAME:CEST
DTSTART:20200329T010000
END:DAYLIGHT
BEGIN:STANDARD
TZOFFSETFROM:+0200
TZOFFSETTO:+0100
TZNAME:CET
DTSTART:20201025T010000
END:STANDARD
END:VTIMEZONE
BEGIN:VEVENT
DTSTART;VALUE=DATE:20251013
DTEND;VALUE=DATE:20251017
DTSTAMP:20260423T203844
CREATED:20231018T182114Z
LAST-MODIFIED:20231020T195051Z
UID:3788-1760313600-1760659199@ma.iaqg.org
SUMMARY:IAQG Meeting Week & 58th General Assembly
DESCRIPTION:TENTATIVE DATES\, LOCATION TO BE DETERMINED \nThe IAQG Meeting Week is a unique opportunity for quality leaders from key aviation\, space and defense companies to meet\, discuss and progress initiatives targeting significant improvements in quality performance. \nDuring this in-person event\, various committees meet to advance initiatives and objectives. The event culminates with the General Assembly\, where members and attendees are apprised of current progress and future plans. \nNotes: This meeting notice is being provided for general awareness. Participation and registrations for meetings are reserved for members and invited guests.
URL:https://ma.iaqg.org/event/iaqg-meeting-week-58th-general-assembly/
CATEGORIES:AAQG,APAQG,EAQG,IAQG
END:VEVENT
BEGIN:VEVENT
DTSTART;VALUE=DATE:20250407
DTEND;VALUE=DATE:20250411
DTSTAMP:20260423T203844
CREATED:20231018T181947Z
LAST-MODIFIED:20240423T170124Z
UID:3786-1743984000-1744329599@ma.iaqg.org
SUMMARY:IAQG Meeting Week & 57th General Assembly
DESCRIPTION:The IAQG Meeting Week is a unique opportunity for quality leaders from key aviation\, space and defense companies to meet\, discuss and progress initiatives targeting significant improvements in quality performance. \nDuring this in-person event\, various committees meet to advance initiatives and objectives. The event culminates with the General Assembly\, where members and attendees are apprised of current progress and future plans. \nNotes: This meeting notice is being provided for general awareness. Participation and registrations for meetings are reserved for members and invited guests.
URL:https://ma.iaqg.org/event/iaqg-meeting-week-57th-general-assembly/
LOCATION:Brussels\, Belgium\, Brussels\, Belgium
CATEGORIES:AAQG,APAQG,EAQG,IAQG
END:VEVENT
BEGIN:VEVENT
DTSTART;VALUE=DATE:20241021
DTEND;VALUE=DATE:20241025
DTSTAMP:20260423T203844
CREATED:20231018T181804Z
LAST-MODIFIED:20240422T124733Z
UID:3783-1729468800-1729814399@ma.iaqg.org
SUMMARY:IAQG Meeting Week & 56th General Assembly
DESCRIPTION:The IAQG Meeting Week is a unique opportunity for quality leaders from key aviation\, space and defense companies to meet\, discuss and progress initiatives targeting significant improvements in quality performance. \nDuring this in-person event\, various committees meet to advance initiatives and objectives. The event culminates with the General Assembly\, where members and attendees are apprised of current progress and future plans. \nNotes: This meeting notice is being provided for general awareness. Participation and registrations for meetings are reserved for members and invited guests. \nInformational resources regarding Tokyo and Japan:\nhttps://www.gotokyo.org/en/destinations/index.html\nhttps://www.japan-guide.com/ \nTransportation: https://www.japan.travel/en/plan/getting-around/ \nRestaurants:\nhttps://savorjapan.com/\nhttps://gurunavi.com/
URL:https://ma.iaqg.org/event/iaqg-meeting-week-56th-general-assembly/
LOCATION:Tokyo\, Tokyo Big Sight\, Tokyo\, Japan
CATEGORIES:AAQG,APAQG,EAQG,IAQG
END:VEVENT
BEGIN:VEVENT
DTSTART;VALUE=DATE:20240911
DTEND;VALUE=DATE:20240913
DTSTAMP:20260423T203844
CREATED:20231020T203252Z
LAST-MODIFIED:20231020T203252Z
UID:3805-1726012800-1726185599@ma.iaqg.org
SUMMARY:EAQG Fall 2024 Sector Meeting
DESCRIPTION:The EAQG is hosting an in-person sector meeting on 11-12 September 2024\, in Derby\, UK\, hosted by Rolls-Royce. This event welcomes member company representatives and invited guests from key aviation\, space and defense companies to meet\, discuss and progress initiatives targeting significant improvements in quality performance. Notes: This meeting notice is being provided for general awareness. Participation and registrations for meetings are reserved for members and invited guests.
URL:https://ma.iaqg.org/event/eaqg-fall-2024-sector-meeting/
LOCATION:Derby\, UK\, Derby\, United Kingdom
CATEGORIES:EAQG,IAQG
END:VEVENT
BEGIN:VEVENT
DTSTART;VALUE=DATE:20240313
DTEND;VALUE=DATE:20240315
DTSTAMP:20260423T203844
CREATED:20231020T195614Z
LAST-MODIFIED:20231020T203011Z
UID:3801-1710288000-1710460799@ma.iaqg.org
SUMMARY:EAQG Spring 2024 Sector Meeting
DESCRIPTION:The EAQG is hosting an in-person sector meeting on 13 – 14 March 2024\, in Geinberg\, Austria\, hosted by FACC. This event welcomes member company representatives and invited guests from key aviation\, space and defense companies to meet\, discuss and progress initiatives targeting significant improvements in quality performance. Notes: This meeting notice is being provided for general awareness. Participation and registrations for meetings are reserved for members and invited guests.
URL:https://ma.iaqg.org/event/eaqg-spring-2024-sector-meeting/
LOCATION:Geinberg\, Austria\, Geinberg\, Austria
CATEGORIES:EAQG,IAQG
END:VEVENT
BEGIN:VEVENT
DTSTART;VALUE=DATE:20230911
DTEND;VALUE=DATE:20230915
DTSTAMP:20260423T203844
CREATED:20230426T192820Z
LAST-MODIFIED:20230426T192820Z
UID:3562-1694390400-1694735999@ma.iaqg.org
SUMMARY:EAQG Fall 2023 Sector Meeting
DESCRIPTION:The EAQG is hosting an in-person sector meeting 11 – 14 September 2023 in Linkoping\, Sweden. This event welcomes member company representatives and invited guests from key aviation\, space and defense companies to meet\, discuss and progress initiatives targeting significant improvements in quality performance. Notes: This meeting notice is being provided for general awareness. Participation and registrations for meetings are reserved for members and invited guests.
URL:https://ma.iaqg.org/event/eaqg-fall-2023-sector-meeting/
LOCATION:Linkoping\, Sweden\, Linkoping\, Sweden
CATEGORIES:EAQG,IAQG
END:VEVENT
BEGIN:VEVENT
DTSTART;VALUE=DATE:20230417
DTEND;VALUE=DATE:20230421
DTSTAMP:20260423T203844
CREATED:20221004T165337Z
LAST-MODIFIED:20221004T165337Z
UID:3252-1681689600-1682035199@ma.iaqg.org
SUMMARY:IAQG Meeting Week & 53rd General Assembly
DESCRIPTION:The IAQG Meeting Week is a unique opportunity for quality leaders from key aviation\, space and defense companies to meet\, discuss and progress initiatives targeting significant improvements in quality performance. \nDuring this in-person event\, various committees meet to advance initiatives and objectives. The event culminates with the General Assembly\, where members and attendees are apprised of current progress and future plans. \nNotes: This meeting notice is being provided for general awareness. Participation and registrations for meetings are reserved for members and invited guests.
URL:https://ma.iaqg.org/event/iaqg-meeting-week-53rd-ga/
LOCATION:Brussels\, Belgium\, Brussels\, Belgium
CATEGORIES:AAQG,APAQG,EAQG,IAQG
END:VEVENT
BEGIN:VEVENT
DTSTART;VALUE=DATE:20230315
DTEND;VALUE=DATE:20230317
DTSTAMP:20260423T203844
CREATED:20221013T184944Z
LAST-MODIFIED:20221013T184944Z
UID:3348-1678838400-1679011199@ma.iaqg.org
SUMMARY:EAQG Spring 2023 Sector Meeting
DESCRIPTION:The EAQG is hosting an in-person sector meeting 15 & 16 March 2023 in Bordeaux\, France. This event welcomes member company representatives and invited guests from key aviation\, space and defense companies to meet\, discuss and progress initiatives targeting significant improvements in quality performance. Notes: This meeting notice is being provided for general awareness. Participation and registrations for meetings are reserved for members and invited guests.
URL:https://ma.iaqg.org/event/eaqg-spring-2023-mtg/
LOCATION:Bordeaux\, France\, Bordeaux\, France
CATEGORIES:EAQG
END:VEVENT
BEGIN:VEVENT
DTSTART;VALUE=DATE:20221010
DTEND;VALUE=DATE:20221014
DTSTAMP:20260423T203844
CREATED:20220613T131023Z
LAST-MODIFIED:20221010T135601Z
UID:3245-1665360000-1665705599@ma.iaqg.org
SUMMARY:IAQG Meeting Week & 52nd General Assembly
DESCRIPTION:The IAQG Meeting Week is a unique opportunity for quality leaders from key aviation\, space and defense companies to meet\, discuss and progress initiatives targeting significant improvements in quality performance. \nDuring this in-person event\, various committees meet to advance initiatives and objectives. The event culminates with the General Assembly\, where members and attendees are apprised of current progress and future plans. \nNotes: This meeting notice is being provided for general awareness. Participation and registrations for meetings are reserved for members and invited guests.
URL:https://ma.iaqg.org/event/iaqg-meeting-week-52nd-general-assembly/
CATEGORIES:AAQG,APAQG,EAQG,IAQG
END:VEVENT
BEGIN:VEVENT
DTSTART;VALUE=DATE:20220914
DTEND;VALUE=DATE:20220916
DTSTAMP:20260423T203844
CREATED:20220428T135302Z
LAST-MODIFIED:20220428T140300Z
UID:3215-1663113600-1663286399@ma.iaqg.org
SUMMARY:EAQG 2022 Fall Sector Meeting
DESCRIPTION:The EAQG is conducting an in-person sector meeting 14 & 15 September 2022 in Ulm\, Germany. Hosted by Member Company\, HENSOLDT\, this event welcomes member company representatives and invited guests from key aviation\, space and defense companies to meet\, discuss and progress initiatives targeting significant improvements in quality performance. \nNotes: This meeting notice is being provided for general awareness. Participation and registrations for meetings are reserved for members and invited guests.
URL:https://ma.iaqg.org/event/eaqg-2022-fall-sector-meeting/
LOCATION:Ulm\, Germany\, Ulm\, Germany
CATEGORIES:EAQG
END:VEVENT
BEGIN:VEVENT
DTSTART;VALUE=DATE:20220509
DTEND;VALUE=DATE:20220513
DTSTAMP:20260423T203844
CREATED:20211122T142014Z
LAST-MODIFIED:20220406T171110Z
UID:2980-1652054400-1652399999@ma.iaqg.org
SUMMARY:IAQG Meeting Week & 51st General Assembly
DESCRIPTION:The IAQG Meeting Week is a unique opportunity for quality leaders from key aviation\, space and defense companies to meet\, discuss and progress initiatives targeting significant improvements in quality performance. \nDuring this in-person event\, various committees meet to advance initiatives and objectives. The event culminates with the General Assembly\, where members and attendees are apprised of current progress and future plans. \nNotes: This meeting notice is being provided for general awareness. Participation and registrations for meetings are reserved for members and invited guests.
URL:https://ma.iaqg.org/event/iaqg-meeting-week-51st-general-assembly/
LOCATION:Brussels\, Belgium\, Brussels\, Belgium
CATEGORIES:AAQG,APAQG,EAQG,IAQG
END:VEVENT
BEGIN:VEVENT
DTSTART;VALUE=DATE:20220316
DTEND;VALUE=DATE:20220318
DTSTAMP:20260423T203844
CREATED:20211123T183209Z
LAST-MODIFIED:20220216T195221Z
UID:2997-1647388800-1647561599@ma.iaqg.org
SUMMARY:EAQG Spring Sector Meeting
DESCRIPTION:The EAQG is hosting an in-person sector meeting 16 & 17 March 2022 in Istanbul\, Turkey. This event welcomes member company representatives and invited guests from key aviation\, space and defense companies to meet\, discuss and progress initiatives targeting significant improvements in quality performance. \nNotes: This meeting notice is being provided for general awareness. Participation and registrations for meetings are reserved for members and invited guests.
URL:https://ma.iaqg.org/event/eaqg-spring-sector-meeting/
LOCATION:Istanbul\, Turkey\, Istanbul\, Turkey
CATEGORIES:EAQG,IAQG
END:VEVENT
BEGIN:VEVENT
DTSTART;TZID=America/New_York:20220223T020000
DTEND;TZID=America/New_York:20220223T033000
DTSTAMP:20260423T203844
CREATED:20220203T132541Z
LAST-MODIFIED:20220203T132541Z
UID:3156-1645581600-1645587000@ma.iaqg.org
SUMMARY:OCAP and PBSRP Webinar - Changes in AS9104-1
DESCRIPTION:Maintaining a high-performing AQMS should come with benefits and rewards; join us to review key changes in 9104-1 and learn about the new OCAP and PBSRP\, what these could mean for your organization\, and how they could potentially adjust audit duration to reflect your organization’s performance. \nDuring this webinar learn: \n\nHow OCAP is used to calculate certification body audit duration based on risk\nHow a high performing AQMS can be rewarded through PBSRP\nReview key changes to 9104-1 and goals\n\nFeaturing Darrell Taylor (Raytheon Technologies -retired)\, Sector Document Representative for 9104-1\, and Tim Lee (Boeing)\, Industry Document Representative for 9104-1 \nA Q&A session will follow the presentation.
URL:https://ma.iaqg.org/event/ocap-and-pbsrp-webinar-changes-in-as9104-1/
LOCATION:Virtual Event
CATEGORIES:AAQG,APAQG,EAQG,IAQG
END:VEVENT
BEGIN:VEVENT
DTSTART;TZID=America/New_York:20211215T100000
DTEND;TZID=America/New_York:20211215T120000
DTSTAMP:20260423T203844
CREATED:20211129T143658Z
LAST-MODIFIED:20211129T143658Z
UID:3010-1639562400-1639569600@ma.iaqg.org
SUMMARY:OASIS v3 Auditor Preview Webinar (Encore Presentation)
DESCRIPTION:As part of the new OASIS launch\, the OASIS development team will be hosting a series of introductory previews. These three webinars will focus on three key specific user audiences: Auditors\, Certification Bodies\, and Suppliers/General Users. This Auditor webinar will provide an inside look how the new OASIS platform will operate as well as allow time for questions and answers. \nREGISTER NOW\n  \nNote: This Auditor Webinar will contain the same information shared during the December 2 webinar. Auditors only need to attend one webinar. This event is being hosted by our developer partner Intact and will be recorded for additional viewing. 
URL:https://ma.iaqg.org/event/oasis-v3-auditor-preview-webinar-encore-presentation/
CATEGORIES:AAQG,APAQG,EAQG,IAQG
END:VEVENT
BEGIN:VEVENT
DTSTART;TZID=America/New_York:20211214T100000
DTEND;TZID=America/New_York:20211214T120000
DTSTAMP:20260423T203844
CREATED:20211129T143452Z
LAST-MODIFIED:20211129T143452Z
UID:2990-1639476000-1639483200@ma.iaqg.org
SUMMARY:OASIS v3 Preview Webinar - Supplier/General User
DESCRIPTION:As part of the new OASIS launch\, the OASIS development team will be hosting a series of introductory previews. These three webinars will focus on three key specific user audiences: Auditors\, Certification Bodies\, and Suppliers/General Users. This Supplier/General User webinar will provide an inside look how the new OASIS platform will operate as well as allow time for questions and answers. \nREGISTER NOW\n  \nNote: This webinar is being hosted by our developer partner Intact and will be recorded for additional viewing. 
URL:https://ma.iaqg.org/event/oasis-v3-preview-webinar-supplier-general-user/
CATEGORIES:AAQG,APAQG,EAQG,IAQG
END:VEVENT
BEGIN:VEVENT
DTSTART;TZID=America/New_York:20211207T090000
DTEND;TZID=America/New_York:20211207T110000
DTSTAMP:20260423T203844
CREATED:20211129T143357Z
LAST-MODIFIED:20211129T143357Z
UID:2987-1638867600-1638874800@ma.iaqg.org
SUMMARY:OASIS v3 Preview Webinar - Certification Body Focused
DESCRIPTION:As part of the new OASIS launch\, the OASIS development team will be hosting a series of introductory previews. These three webinars will focus on three key specific user audiences: Auditors\, Certification Bodies\, and Suppliers. This Certification Body webinar will provide an inside look how the new OASIS platform will operate as well as allow time for questions and answers. \nREGISTER NOW\n  \nNote: This webinar is being hosted by our developer partner Intact and will be recorded for additional viewing. 
URL:https://ma.iaqg.org/event/oasis-v3-preview-webinar-certification-body-focused/
LOCATION:Virtual Event
CATEGORIES:AAQG,APAQG,EAQG,IAQG
END:VEVENT
BEGIN:VEVENT
DTSTART;TZID=America/New_York:20211202T090000
DTEND;TZID=America/New_York:20211202T110000
DTSTAMP:20260423T203844
CREATED:20211129T143234Z
LAST-MODIFIED:20211129T143758Z
UID:2985-1638435600-1638442800@ma.iaqg.org
SUMMARY:OASIS v3 Preview Webinar - Auditor Focused
DESCRIPTION:As part of the new OASIS launch\, the OASIS development team will be hosting a series of introductory previews. These three webinars will focus on three key specific user audiences: Auditors\, Certification Bodies\, and Suppliers. This Auditor webinar will provide an inside look how the new OASIS platform will operate as well as allow time for questions and answers. \nREGISTER NOW\n  \nNote: The webinar is the first of two webinars for our Auditor audience. The information provided will be the same for both\, so attendees should only plan to participate in one webinar. This event is being hosted by our developer partner Intact and will be recorded for additional viewing. 
URL:https://ma.iaqg.org/event/oasis-v3-preview-webinar-auditor-focused/
LOCATION:Virtual Event
CATEGORIES:AAQG,APAQG,EAQG,IAQG
END:VEVENT
BEGIN:VEVENT
DTSTART;TZID=America/New_York:20211021T090000
DTEND;TZID=America/New_York:20211021T163000
DTSTAMP:20260423T203844
CREATED:20210902T141822Z
LAST-MODIFIED:20210902T141822Z
UID:2964-1634806800-1634833800@ma.iaqg.org
SUMMARY:IAQG 50th General Assembly - Virtual
DESCRIPTION:Due to the ongoing pandemic\, the 50th General Assembly will be held virtually. \nThe IAQG General Assembly is an opportunity for quality leaders from key aviation\, space and defense companies to gather and receive updates on how IAQG is progressing initiatives targeting significant improvements in quality performance. The meeting\, which will last approximately 90 minutes\, will apprise members and invited attendees of current and future plans. \nMeeting dates and agenda topics are provided for general awareness.  Participation and registration for meetings are reserved for members and invited guests.
URL:https://ma.iaqg.org/event/iaqg-50th-general-assembly-virtual/
LOCATION:Virtual Event
CATEGORIES:AAQG,APAQG,EAQG,IAQG
END:VEVENT
BEGIN:VEVENT
DTSTART;VALUE=DATE:20210915
DTEND;VALUE=DATE:20210917
DTSTAMP:20260423T203844
CREATED:20210827T150306Z
LAST-MODIFIED:20210827T150306Z
UID:2956-1631664000-1631836799@ma.iaqg.org
SUMMARY:EAQG Fall Meeting 2021 - VIRTUAL
DESCRIPTION:The EAQG Fall 2021 Meeting will be held virtually on 15 and 16 September 2021. EAQG General Meetings allow all EAQG Members to be briefed on EAQG/IAQG activities and initiatives. EAQG General Meetings are closed meetings for EAQG Member Company participants only and invited guests. Attendees should register for the meeting.  \nThis announcement is provided for awareness. 
URL:https://ma.iaqg.org/event/eaqg-fall-meeting-2021-virtual/
LOCATION:Virtual Event
CATEGORIES:EAQG,IAQG
END:VEVENT
BEGIN:VEVENT
DTSTART;TZID=America/New_York:20210520T090000
DTEND;TZID=America/New_York:20210520T113000
DTSTAMP:20260423T203844
CREATED:20210219T222246Z
LAST-MODIFIED:20210317T121530Z
UID:2714-1621501200-1621510200@ma.iaqg.org
SUMMARY:IAQG 49th General Assembly - Virtual
DESCRIPTION:Due to the Covid-19 pandemic\, the 48th General Assembly will be held virtually. \nThe IAQG General Assembly is an opportunity for quality leaders from key aviation\, space and defense companies to meet and progress initiatives targeting significant improvements in quality performance. The meeting\, which will last approximately 90 minutes\, will apprise members and invited attendees of current and future plans. \nMeeting dates and agenda topics are provided for general awareness.  Participation and registration for meetings are reserved for members and invited guests.
URL:https://ma.iaqg.org/event/iaqg-49th-general-assembly-virtual/
LOCATION:Virtual Event
CATEGORIES:AAQG,APAQG,EAQG,IAQG
END:VEVENT
BEGIN:VEVENT
DTSTART;TZID=Europe/Berlin:20210317T140000
DTEND;TZID=Europe/Berlin:20210317T163000
DTSTAMP:20260423T203844
CREATED:20210129T162802Z
LAST-MODIFIED:20210129T162933Z
UID:2702-1615989600-1615998600@ma.iaqg.org
SUMMARY:EAQG Meeting Spring 2021 - Virtual
DESCRIPTION:Due to the Covid-19 pandemic\, the EAQG Spring 2021 Meeting will be held virtually. \nEAQG Council Meetings allow all EAQG Members to be briefed on EAQG/IAQG activities and initiatives. During these events\, Members can express their opinions on different topics and share the information. EAQG Council meetings are closed meetings for EAQG Members only. \nMeeting dates and agenda topics are provided for general awareness.  Participation and registration for meetings are reserved for members.
URL:https://ma.iaqg.org/event/eaqg-meeting-spring-2021-virtual/
LOCATION:Virtual Event
CATEGORIES:EAQG
END:VEVENT
BEGIN:VEVENT
DTSTART;VALUE=DATE:20201015
DTEND;VALUE=DATE:20201016
DTSTAMP:20260423T203844
CREATED:20191003T150506Z
LAST-MODIFIED:20200901T200407Z
UID:1440-1602720000-1602806399@ma.iaqg.org
SUMMARY:IAQG 48th General Assembly - Virtual
DESCRIPTION:Due to the Covid-19 pandemic\, the 48th General Assembly will be held virtually. \nThe IAQG General Assembly is an opportunity for quality leaders from key aviation\, space and defense companies to meet and progress initiatives targeting significant improvements in quality performance. The meeting\, which will last approximately 90 minutes\, will apprise members and invited attendees of current and future plans. \nMeeting dates and agenda topics are provided for general awareness.  Participation and registration for meetings are reserved for members and invited guests.
URL:https://ma.iaqg.org/event/iaqg-48th-general-assembly/
LOCATION:Virtual Event
CATEGORIES:AAQG,APAQG,EAQG,IAQG
END:VEVENT
BEGIN:VEVENT
DTSTART;TZID=Europe/Madrid:20200917T140000
DTEND;TZID=Europe/Madrid:20200917T163000
DTSTAMP:20260423T203844
CREATED:20200713T141712Z
LAST-MODIFIED:20200713T142009Z
UID:2597-1600351200-1600360200@ma.iaqg.org
SUMMARY:EAQG Meeting Fall 2020 - Virtual
DESCRIPTION:Due to the Covid-19 pandemic\, the EAQG Fall 2020 Meeting will be held virtually. \nEAQG Council Meetings allow all EAQG Members to be briefed on EAQG/IAQG activities and initiatives. During these events\, Members can express their opinions on different topics and share the information. EAQG Council meetings are closed meetings for EAQG Members only. \nMeeting dates and agenda topics are provided for general awareness.  Participation and registration for meetings are reserved for members.
URL:https://ma.iaqg.org/event/eaqg-meeting-fall-2020-virtual/
CATEGORIES:EAQG
END:VEVENT
BEGIN:VEVENT
DTSTART;VALUE=DATE:20200520
DTEND;VALUE=DATE:20200521
DTSTAMP:20260423T203844
CREATED:20191002T222633Z
LAST-MODIFIED:20200511T182133Z
UID:1376-1589932800-1590019199@ma.iaqg.org
SUMMARY:IAQG 47th General Assembly - Virtual
DESCRIPTION:To ensure the safety and wellbeing of our global IAQG community\, the Executive Committee has made the 47th General Assembly meeting a virtual event.   \nThe IAQG Meeting Week is a unique opportunity for quality leaders from key aviation\, space and defense companies to meet\, discuss and progress initiatives targeting significant improvements in quality performance. During the week\, various committees meet to progress initiatives and objectives.  The event culminates with the General Assembly\, occurring Thursday\, where members and attendees are apprised of progress and future plans. \nMeeting dates and agenda topics are provided for general awareness.  Participation and registration for meetings are reserved for members and invited guests. \nIf you did not receive an invitation and would like to request one\, please complete the form below. \n\n\n  \n\n\n\n\n\n\n\n\n\n Your Name (required)\n \n \n Your Company (required)\n \n \n Your Email (required)\n \n \n Your Sector\nAAQGAPAQGEAQGNon Applicable \n \n Your Committee/Association Work\n \n \n Your Message
URL:https://ma.iaqg.org/event/47th-iaqg-meeting/
CATEGORIES:AAQG,APAQG,EAQG,IAQG
END:VEVENT
BEGIN:VEVENT
DTSTART;VALUE=DATE:20200318
DTEND;VALUE=DATE:20200321
DTSTAMP:20260423T203844
CREATED:20191003T145905Z
LAST-MODIFIED:20200310T172958Z
UID:1433-1584489600-1584748799@ma.iaqg.org
SUMMARY:EAQG Meeting Spring 2020 - VIRTUAL
DESCRIPTION:Please be aware\, EAQG will not hold the sector meeting in Bordeaux\, France planned for week 12. In lieu of the in-person meeting\, the Sector will organize a short webinar to cover the main messages. This condensed version of the meeting is limited to EAQG members only. \nEAQG General Meetings are the EAQG forum allowing all EAQG Members to be briefed on EAQG/IAQG activities and initiatives and allowing Members to express their opinion on the different topics with the goal to come up with a one voice EAQG position. EAQG General meetings are closed meetings for European IAQG Members only. \nMeeting dates and agenda topics are provided for general awareness.
URL:https://ma.iaqg.org/event/eaqg-meeting-spring-2020/
CATEGORIES:EAQG
END:VEVENT
BEGIN:VEVENT
DTSTART;VALUE=DATE:20191014
DTEND;VALUE=DATE:20191020
DTSTAMP:20260423T203844
CREATED:20191002T221139Z
LAST-MODIFIED:20191204T201117Z
UID:1370-1571011200-1571529599@ma.iaqg.org
SUMMARY:IAQG Meeting Week & 46th General Assembly
DESCRIPTION:The IAQG Meeting Week\, hosted by BDLI\, is a unique opportunity for quality leaders from key aviation\, space and defense companies to meet\, discuss and progress initiatives targeting significant improvements in quality performance. \nDuring the week\, various committees meet to progress initiatives and objectives.  The event culminates with the General Assembly\, occurring Thursday 17 October\, where members and attendees are apprised of progress and future plans. \nOn Friday\, October 18\, the IAQG hosted a Supplier Forum. Below contains links to topics and presentations covered during the event. \n\nSupplier Mapping Landscape\nAPQP – Oberhausen\nDigital Twin – Ross\nElectronic Signature – Wirtz\nIAEG – Costes\nStrategic Working Group – Giardina\n\nMeeting dates and agenda topics are provided for general awareness.  Participation and registration for meetings are reserved for members and invited guests.
URL:https://ma.iaqg.org/event/iaqg-meeting-week-46th-general-assembly/
LOCATION:Hilton Berlin\, Mohrestrasse 30\, Berlin\, 10117\, Germany
CATEGORIES:AAQG,APAQG,EAQG,IAQG
END:VEVENT
BEGIN:VEVENT
DTSTART;VALUE=DATE:20190509
DTEND;VALUE=DATE:20190517
DTSTAMP:20260423T203844
CREATED:20191002T231626Z
LAST-MODIFIED:20191204T201200Z
UID:1402-1557360000-1558051199@ma.iaqg.org
SUMMARY:IAQG Meeting Week & 45th General Assembly
DESCRIPTION:The IAQG Meeting Week is a unique opportunity for quality leaders from key aviation\, space and defense companies to meet\, discuss and progress initiatives targeting significant improvements in quality performance. \nDuring the week\, various committees meet to progress initiatives and objectives.  The week culminates with the General Assembly where members and attendees are apprised of progress and future plans. \nMeeting dates and agenda topics are provided for general awareness.  Participation and registration for meetings are reserved for members and invited guests.
URL:https://ma.iaqg.org/event/iaqg-meeting-week-45th-general-assembly/
LOCATION:Omni Atlanta Hotel at CNN Center\, 100 CNN Center\, Altanta\, GA\, 30303\, United States
CATEGORIES:AAQG,APAQG,EAQG,IAQG
END:VEVENT
END:VCALENDAR