BEGIN:VCALENDAR
VERSION:2.0
PRODID:-//IAQG - ECPv6.5.2//NONSGML v1.0//EN
CALSCALE:GREGORIAN
METHOD:PUBLISH
X-WR-CALNAME:IAQG
X-ORIGINAL-URL:https://ma.iaqg.org
X-WR-CALDESC:Events for IAQG
REFRESH-INTERVAL;VALUE=DURATION:PT1H
X-Robots-Tag:noindex
X-PUBLISHED-TTL:PT1H
BEGIN:VTIMEZONE
TZID:America/New_York
BEGIN:DAYLIGHT
TZOFFSETFROM:-0500
TZOFFSETTO:-0400
TZNAME:EDT
DTSTART:20240310T070000
END:DAYLIGHT
BEGIN:STANDARD
TZOFFSETFROM:-0400
TZOFFSETTO:-0500
TZNAME:EST
DTSTART:20241103T060000
END:STANDARD
END:VTIMEZONE
BEGIN:VEVENT
DTSTART;VALUE=DATE:20241020
DTEND;VALUE=DATE:20241021
DTSTAMP:20260425T115007
CREATED:20231020T203843Z
LAST-MODIFIED:20231020T203843Z
UID:3811-1729382400-1729468799@ma.iaqg.org
SUMMARY:APAQG Autumn 2024 Sector Meeting
DESCRIPTION:The APAQG is hosting an in-person sector meeting on 20 October 2024\, in Tokyo\, Japan. This event welcomes member company representatives and invited guests from key aviation\, space and defense companies to meet\, discuss and progress initiatives targeting significant improvements in quality performance. Notes: This meeting notice is being provided for general awareness. Participation and registrations for meetings are reserved for members and invited guests.
URL:https://ma.iaqg.org/event/apaqg-autumn-2024-sector-meeting/
LOCATION:Tokyo\, Tokyo Big Sight\, Tokyo\, Japan
CATEGORIES:APAQG,IAQG
END:VEVENT
END:VCALENDAR